BEGIN:VCALENDAR
VERSION:2.0
PRODID:-//CYMS Portal - ECPv6.15.20//NONSGML v1.0//EN
CALSCALE:GREGORIAN
METHOD:PUBLISH
X-WR-CALNAME:CYMS Portal
X-ORIGINAL-URL:https://www.cymsportal.cy/en/
X-WR-CALDESC:Events for CYMS Portal
REFRESH-INTERVAL;VALUE=DURATION:PT1H
X-Robots-Tag:noindex
X-PUBLISHED-TTL:PT1H
BEGIN:VTIMEZONE
TZID:Europe/Athens
BEGIN:DAYLIGHT
TZOFFSETFROM:+0200
TZOFFSETTO:+0300
TZNAME:EEST
DTSTART:20240331T010000
END:DAYLIGHT
BEGIN:STANDARD
TZOFFSETFROM:+0300
TZOFFSETTO:+0200
TZNAME:EET
DTSTART:20241027T010000
END:STANDARD
BEGIN:DAYLIGHT
TZOFFSETFROM:+0200
TZOFFSETTO:+0300
TZNAME:EEST
DTSTART:20250330T010000
END:DAYLIGHT
BEGIN:STANDARD
TZOFFSETFROM:+0300
TZOFFSETTO:+0200
TZNAME:EET
DTSTART:20251026T010000
END:STANDARD
BEGIN:DAYLIGHT
TZOFFSETFROM:+0200
TZOFFSETTO:+0300
TZNAME:EEST
DTSTART:20260329T010000
END:DAYLIGHT
BEGIN:STANDARD
TZOFFSETFROM:+0300
TZOFFSETTO:+0200
TZNAME:EET
DTSTART:20261025T010000
END:STANDARD
END:VTIMEZONE
BEGIN:VEVENT
DTSTART;VALUE=DATE:20250406
DTEND;VALUE=DATE:20250407
DTSTAMP:20260423T004725
CREATED:20250205T124407Z
LAST-MODIFIED:20250321T120511Z
UID:7976-1743897600-1743983999@www.cymsportal.cy
SUMMARY:Math Olympiad 2025
DESCRIPTION:Certificate of participation will be given to all the students who will participate in the Competition. \n EXTENSION of the Deadline for registrations until March 25\, 2025 \nRight to participate in the Competition is restricted ONLY to the students who submitted their registration within the deadline and are included on the participants list. The participants lists will be published on the CyMS site (www.cms.org.cy) for confirmation and the students will be informed by an sms or email message. \nStudents of the following Grades can participate in the competition:\n– 3rd\, 4th\, 5th\, 6th Grade Primary School\n– A ́\, B ́ and C ́ Gymnasium (7th\, 8th\, 9th Grade)\n– Α ́\, Β ́ and C ́ Lyceum (10th\, 11th\, 12th Grade) \nRegister here\n\n  The test centres will be announced.
URL:https://www.cymsportal.cy/en/event/math-olympiad-2025/
CATEGORIES:Mathematics
ATTACH;FMTTYPE=image/png:https://www.cymsportal.cy/wp-content/uploads/2022/10/cms-registration-portal-story-4.png
ORGANIZER;CN="%CE%9A%CE%A5.%CE%9C.%CE%95.":MAILTO:https://www.cms.org.cy/
END:VEVENT
END:VCALENDAR