BEGIN:VCALENDAR
VERSION:2.0
PRODID:-//CYMS Portal - ECPv6.15.20//NONSGML v1.0//EN
CALSCALE:GREGORIAN
METHOD:PUBLISH
X-WR-CALNAME:CYMS Portal
X-ORIGINAL-URL:https://www.cymsportal.cy/en/
X-WR-CALDESC:Events for CYMS Portal
REFRESH-INTERVAL;VALUE=DURATION:PT1H
X-Robots-Tag:noindex
X-PUBLISHED-TTL:PT1H
BEGIN:VTIMEZONE
TZID:Europe/Athens
BEGIN:DAYLIGHT
TZOFFSETFROM:+0200
TZOFFSETTO:+0300
TZNAME:EEST
DTSTART:20210328T010000
END:DAYLIGHT
BEGIN:STANDARD
TZOFFSETFROM:+0300
TZOFFSETTO:+0200
TZNAME:EET
DTSTART:20211031T010000
END:STANDARD
BEGIN:DAYLIGHT
TZOFFSETFROM:+0200
TZOFFSETTO:+0300
TZNAME:EEST
DTSTART:20220327T010000
END:DAYLIGHT
BEGIN:STANDARD
TZOFFSETFROM:+0300
TZOFFSETTO:+0200
TZNAME:EET
DTSTART:20221030T010000
END:STANDARD
BEGIN:DAYLIGHT
TZOFFSETFROM:+0200
TZOFFSETTO:+0300
TZNAME:EEST
DTSTART:20230326T010000
END:DAYLIGHT
BEGIN:STANDARD
TZOFFSETFROM:+0300
TZOFFSETTO:+0200
TZNAME:EET
DTSTART:20231029T010000
END:STANDARD
BEGIN:DAYLIGHT
TZOFFSETFROM:+0200
TZOFFSETTO:+0300
TZNAME:EEST
DTSTART:20240331T010000
END:DAYLIGHT
BEGIN:STANDARD
TZOFFSETFROM:+0300
TZOFFSETTO:+0200
TZNAME:EET
DTSTART:20241027T010000
END:STANDARD
BEGIN:DAYLIGHT
TZOFFSETFROM:+0200
TZOFFSETTO:+0300
TZNAME:EEST
DTSTART:20250330T010000
END:DAYLIGHT
BEGIN:STANDARD
TZOFFSETFROM:+0300
TZOFFSETTO:+0200
TZNAME:EET
DTSTART:20251026T010000
END:STANDARD
BEGIN:DAYLIGHT
TZOFFSETFROM:+0200
TZOFFSETTO:+0300
TZNAME:EEST
DTSTART:20260329T010000
END:DAYLIGHT
BEGIN:STANDARD
TZOFFSETFROM:+0300
TZOFFSETTO:+0200
TZNAME:EET
DTSTART:20261025T010000
END:STANDARD
END:VTIMEZONE
BEGIN:VEVENT
DTSTART;TZID=Europe/Athens:20251108T100000
DTEND;TZID=Europe/Athens:20251108T120000
DTSTAMP:20260423T005650
CREATED:20250925T100607Z
LAST-MODIFIED:20251024T135136Z
UID:11012-1762596000-1762603200@www.cymsportal.cy
SUMMARY:County Competition 2025 – 2026
DESCRIPTION:Certificate of participation will be given to all the students who will participate in the Competition. \n Extension and Final deadline for registrations: Wednesday\, 29 October 2025 \nRight to participate in the Competition is restricted ONLY to the students who submitted their registration within the deadline and are included on the participants list. The participants lists will be published on the CyMS site (www.cms.org.cy) for confirmation and the students will be informed by an sms or email message. \nStudents of the following Grades can participate in the competition:\n– 5th\, 6th Grade Primary School\n– A ́\, B ́ and C ́ Gymnasium (7th\, 8th\, 9th Grade)\n– Α ́\, Β ́ and C ́ Lyceum (10th\, 11th\, 12th Grade) \nRegister Here\n\n  Exam centers per District: \n Nicosia: Latsia Lyceum \n Limassol: Linopetras Lyceum \n Larnaka: Verginas Lyceum \n Famagusta:Paralimni Lyceum \nPaphos: Α΄ Ethnarchi Makariou C΄ Lyceum
URL:https://www.cymsportal.cy/en/event/county-competition-2025-2026/
ATTACH;FMTTYPE=image/png:https://www.cymsportal.cy/wp-content/uploads/2022/10/cms-registration-portal-story-3.png
ORGANIZER;CN="%CE%9A%CE%A5.%CE%9C.%CE%95.":MAILTO:https://www.cms.org.cy/
END:VEVENT
BEGIN:VEVENT
DTSTART;VALUE=DATE:20250406
DTEND;VALUE=DATE:20250407
DTSTAMP:20260423T005650
CREATED:20250205T124407Z
LAST-MODIFIED:20250321T120511Z
UID:7976-1743897600-1743983999@www.cymsportal.cy
SUMMARY:Math Olympiad 2025
DESCRIPTION:Certificate of participation will be given to all the students who will participate in the Competition. \n EXTENSION of the Deadline for registrations until March 25\, 2025 \nRight to participate in the Competition is restricted ONLY to the students who submitted their registration within the deadline and are included on the participants list. The participants lists will be published on the CyMS site (www.cms.org.cy) for confirmation and the students will be informed by an sms or email message. \nStudents of the following Grades can participate in the competition:\n– 3rd\, 4th\, 5th\, 6th Grade Primary School\n– A ́\, B ́ and C ́ Gymnasium (7th\, 8th\, 9th Grade)\n– Α ́\, Β ́ and C ́ Lyceum (10th\, 11th\, 12th Grade) \nRegister here\n\n  The test centres will be announced.
URL:https://www.cymsportal.cy/en/event/math-olympiad-2025/
CATEGORIES:Mathematics
ATTACH;FMTTYPE=image/png:https://www.cymsportal.cy/wp-content/uploads/2022/10/cms-registration-portal-story-4.png
ORGANIZER;CN="%CE%9A%CE%A5.%CE%9C.%CE%95.":MAILTO:https://www.cms.org.cy/
END:VEVENT
BEGIN:VEVENT
DTSTART;TZID=Europe/Athens:20241109T100000
DTEND;TZID=Europe/Athens:20241109T120000
DTSTAMP:20260423T005650
CREATED:20240904T155030Z
LAST-MODIFIED:20241018T120444Z
UID:7866-1731146400-1731153600@www.cymsportal.cy
SUMMARY:County Competition 2024 – 2025
DESCRIPTION:Certificate of participation will be given to all the students who will participate in the Competition. \n Deadline is Friday\, October 18\, 2024 \nRight to participate in the Competition is restricted ONLY to the students who submitted their registration within the deadline and are included on the participants list. The participants lists will be published on the CyMS site (www.cms.org.cy) for confirmation and the students will be informed by an sms or email message. \nStudents of the following Grades can participate in the competition:\n– 5th\, 6th Grade Primary School\n– A ́\, B ́ and C ́ Gymnasium (7th\, 8th\, 9th Grade)\n– Α ́\, Β ́ and C ́ Lyceum (10th\, 11th\, 12th Grade) \nRegister Here\n\n  Exam centers per District: \n Nicosia: Latsia Lyceum \n Limassol: Linopetras Lyceum \n Larnaka: Verginas Lyceum \n Famagusta:Paralimni Lyceum \nPaphos: Α΄ Ethnarchi Makariou C΄ Lyceum
URL:https://www.cymsportal.cy/en/event/county-competition-2024-2025/
CATEGORIES:Mathematics
ATTACH;FMTTYPE=image/png:https://www.cymsportal.cy/wp-content/uploads/2022/10/cms-registration-portal-story-4.png
END:VEVENT
BEGIN:VEVENT
DTSTART;VALUE=DATE:20240421
DTEND;VALUE=DATE:20240422
DTSTAMP:20260423T005650
CREATED:20240125T110948Z
LAST-MODIFIED:20241204T125334Z
UID:4390-1713657600-1713743999@www.cymsportal.cy
SUMMARY:Math Olympiad 2024
DESCRIPTION:Certificate of participation will be given to all the students who will participate in the Competition. \n EXTENSION of Deadline for registrations until 29March 2024 \nRight to participate in the Competition is restricted ONLY to the students who submitted their registration within the deadline and are included on the participants list. The participants lists will be published on the CyMS site (www.cms.org.cy) for confirmation and the students will be informed by an sms or email message. \nStudents of the following Grades can participate in the competition:\n– 3rd\, 4th\, 5th\, 6th Grade Primary School\n– A ́\, B ́ and C ́ Gymnasium (7th\, 8th\, 9th Grade)\n– Α ́\, Β ́ and C ́ Lyceum (10th\, 11th\, 12th Grade) \nRegister here\n\n  The test centres will be announced.
URL:https://www.cymsportal.cy/en/event/math-olympiad-2024/
CATEGORIES:Mathematics
ATTACH;FMTTYPE=image/png:https://www.cymsportal.cy/wp-content/uploads/2022/10/cms-registration-portal-story-4.png
ORGANIZER;CN="%CE%9A%CE%A5.%CE%9C.%CE%95.":MAILTO:https://www.cms.org.cy/
END:VEVENT
BEGIN:VEVENT
DTSTART;TZID=Europe/Athens:20231104T100000
DTEND;TZID=Europe/Athens:20231104T120000
DTSTAMP:20260423T005650
CREATED:20230918T123926Z
LAST-MODIFIED:20231025T161943Z
UID:4256-1699092000-1699099200@www.cymsportal.cy
SUMMARY:County Competition 2023 – 2024
DESCRIPTION:Certificate of participation will be given to all the students who will participate in the Competition. \n Deadline until October 20\, 2023 \nRight to participate in the Competition is restricted ONLY to the students who submitted their registration within the deadline and are included on the participants list. The participants lists will be published on the CyMS site (www.cms.org.cy) for confirmation and the students will be informed by an sms or email message. \nStudents of the following Grades can participate in the competition:\n– 5th\, 6th Grade Primary School\n– A ́\, B ́ and C ́ Gymnasium (7th\, 8th\, 9th Grade)\n– Α ́\, Β ́ and C ́ Lyceum (10th\, 11th\, 12th Grade) \nRegister Here\n\n  Exam centers per District: \nThe exam centers have changed and a new announcement will be posted. Please also check the CYMS website\, www.cms.org.cy\, for the latest information regarding the competition. \n\n\n\n\n  \nThe exam centers have changed and a new announcement will be posted. Please also check the CYMS website\, www.cms.org.cy\, for the latest information regarding the competition.
URL:https://www.cymsportal.cy/en/event/county-competition-2023-2024/
CATEGORIES:Mathematics
ATTACH;FMTTYPE=image/png:https://www.cymsportal.cy/wp-content/uploads/2022/10/cms-registration-portal-story-4.png
ORGANIZER;CN="%CE%9A%CE%A5.%CE%9C.%CE%95. / CMS":MAILTO:cms@cms.org.cy
END:VEVENT
BEGIN:VEVENT
DTSTART;VALUE=DATE:20230409
DTEND;VALUE=DATE:20230410
DTSTAMP:20260423T005650
CREATED:20230113T120652Z
LAST-MODIFIED:20230317T111540Z
UID:1935-1680998400-1681084799@www.cymsportal.cy
SUMMARY:Math Olympiad 2023
DESCRIPTION:Certificate of participation will be given to all the students who will participate in the Competition. \n New deadline until March 26\, 2023 \nRight to participate in the Competition is restricted ONLY to the students who submitted their registration within the deadline and are included on the participants list. The participants lists will be published on the CyMS site (www.cms.org.cy) for confirmation and the students will be informed by an sms or email message. \nStudents of the following Grades can participate in the competition:\n– 3rd\, 4th\, 5th\, 6th Grade Primary School\n– A ́\, B ́ and C ́ Gymnasium (7th\, 8th\, 9th Grade)\n– Α ́\, Β ́ and C ́ Lyceum (10th\, 11th\, 12th Grade) \nRegister Here\n\n  Exam centers per District: \n Nicosia \n Limassol \n Larnaka \n Famagusta \nPaphos
URL:https://www.cymsportal.cy/en/event/math-olympiad-2023/
CATEGORIES:Mathematics
ATTACH;FMTTYPE=image/png:https://www.cymsportal.cy/wp-content/uploads/2022/10/cms-registration-portal-story-4.png
END:VEVENT
BEGIN:VEVENT
DTSTART;TZID=Europe/Athens:20221112T100000
DTEND;TZID=Europe/Athens:20221112T120000
DTSTAMP:20260423T005650
CREATED:20221019T131717Z
LAST-MODIFIED:20221020T081527Z
UID:1796-1668247200-1668254400@www.cymsportal.cy
SUMMARY:County Competition 2022 – 2023
DESCRIPTION:Certificate of participation will be given to all the students who will participate in the Competition. \n Deadline until October 29\, 2022 \nRight to participate in the Competition is restricted ONLY to the students who submitted their registration within the deadline and are included on the participants list. The participants lists will be published on the CyMS site (www.cms.org.cy) for confirmation and the students will be informed by an sms or email message. \nStudents of the following Grades can participate in the competition:\n– 5th\, 6th Grade Primary School\n– A ́\, B ́ and C ́ Gymnasium (7th\, 8th\, 9th Grade)\n– Α ́\, Β ́ and C ́ Lyceum (10th\, 11th\, 12th Grade) \nRegister Here\n\n  Exam centers per District: \n Nicosia: Latsia Lyceum \n Limassol: Linopetras Lyceum \n Larnaka: Verginas Lyceum \n Famagusta:Paralimni Lyceum \nPaphos: Α΄ Ethnarchi Makariou C΄ Lyceum
URL:https://www.cymsportal.cy/en/event/countycompetition20222023info/
CATEGORIES:Mathematics
ATTACH;FMTTYPE=image/png:https://www.cymsportal.cy/wp-content/uploads/2022/10/cms-registration-portal-story-4.png
ORGANIZER;CN="%CE%9A%CE%A5.%CE%9C.%CE%95. / CMS":MAILTO:cms@cms.org.cy
END:VEVENT
END:VCALENDAR